View In:
ArcGIS JavaScript
ArcGIS Online Map Viewer
ArcGIS Earth
ArcMap
ArcGIS Pro
View Footprint In:
ArcGIS Online Map Viewer
Service Description: <DIV STYLE="text-align:Left;font-size:12pt"><DIV><DIV><P><SPAN>Fond de plan </SPAN><SPAN>couleur </SPAN><SPAN>de Nantes Métropol</SPAN><SPAN>e</SPAN><SPAN> pour Nantes.fr</SPAN></P></DIV></DIV></DIV>
Map Name: FDC_couleur_WMS_CC47
Legend
All Layers and Tables
Layers:
Description: <DIV STYLE="text-align:Left;font-size:12pt"><DIV><DIV><P><SPAN>Fond de plan </SPAN><SPAN>couleur </SPAN><SPAN>de Nantes Métropol</SPAN><SPAN>e</SPAN><SPAN> pour Nantes.fr</SPAN></P></DIV></DIV></DIV>
Service Item Id: d01e42c284464b1a876460a1307c283f
Copyright Text: Nantes Métropole DGO
Spatial Reference:
102100
(3857)
LatestVCSWkid(0)
Single Fused Map Cache: true
Tile Info:
- Height: 256
- Width: 256
- DPI: 96
-
Levels of Detail: 24
-
Level ID: 1
[ Start Tile, End Tile ]
- Resolution: 78271.5169639999
- Scale: 2.95828763795777E8
-
Level ID: 2
[ Start Tile, End Tile ]
- Resolution: 39135.7584820001
- Scale: 1.47914381897889E8
-
Level ID: 3
[ Start Tile, End Tile ]
- Resolution: 19567.8792409999
- Scale: 7.3957190948944E7
-
Level ID: 4
[ Start Tile, End Tile ]
- Resolution: 9783.93962049996
- Scale: 3.6978595474472E7
-
Level ID: 5
[ Start Tile, End Tile ]
- Resolution: 4891.96981024998
- Scale: 1.8489297737236E7
- Format: PNG
- Compression Quality: 0.0
- Origin: X: -2.0037508342787E7
Y: 2.0037508342787E7
- Spatial Reference: 102100
(3857)
LatestVCSWkid(0)
Storage Info:
- Storage Format: esriMapCacheStorageModeCompactV2
- Packet Size: 128
Initial Extent:
XMin: -218864.56279679347
YMin: 5949122.129658091
XMax: -146267.50087521898
YMax: 6014529.645609909
Spatial Reference: 102100
(0)
LatestVCSWkid(0)
Full Extent:
XMin: -296873.8591931866
YMin: 5911931.079826876
XMax: -98614.37380082901
YMax: 6082728.790385167
Spatial Reference: 102100
(0)
LatestVCSWkid(0)
Units: esriMeters
Supported Image Format Types: PNG32,PNG24,PNG,JPG,DIB,TIFF,EMF,PS,PDF,GIF,SVG,SVGZ,BMP
Document Info:
Title: Fond de plan
Author:
Comments: <DIV STYLE="text-align:Left;font-size:12pt"><DIV><DIV><P><SPAN>Fond de plan </SPAN><SPAN>couleur </SPAN><SPAN>de Nantes Métropol</SPAN><SPAN>e</SPAN><SPAN> pour Nantes.fr</SPAN></P></DIV></DIV></DIV>
Subject: Fond de plan couleur de Nantes Métropole pour Nantes.fr
Category:
Keywords: FDP,FDC,fond de plan,fond de carte,tuile vectorielle,nantesfr,nantes.fr,bridge,gris,ultradoux,bâti,Nantes Métropole,NM
AntialiasingMode: None
TextAntialiasingMode: None
Supports Dynamic Layers: false
Resampling: false
MaxRecordCount: 2000
MaxImageHeight: 4096
MaxImageWidth: 4096
Supported Query Formats: JSON, geoJSON, PBF
Supports Query Data Elements: true
Min Scale: 577790.554289
Max Scale: 282.124294
Supports Datum Transformation: true
Child Resources:
Info
Supported Operations:
Export Map
Identify
QueryLegends
QueryDomains
Find
EstimateExportTilesSize
ExportTiles
Return Updates