{ "currentVersion": 10.91, "cimVersion": "2.9.0", "serviceDescription": "
Fond de plan <\/SPAN>couleur <\/SPAN>de Nantes Métropol<\/SPAN>e<\/SPAN> pour Nantes.fr<\/SPAN><\/P><\/DIV><\/DIV><\/DIV>",
"mapName": "FDC_couleur_WMS_CC47",
"description": " Fond de plan <\/SPAN>couleur <\/SPAN>de Nantes Métropol<\/SPAN>e<\/SPAN> pour Nantes.fr<\/SPAN><\/P><\/DIV><\/DIV><\/DIV>",
"copyrightText": "Nantes Métropole DGO",
"supportsDynamicLayers": false,
"layers": [
{
"id": 0,
"name": "Equiter",
"parentLayerId": -1,
"defaultVisibility": true,
"subLayerIds": null,
"minScale": 20000,
"maxScale": 0,
"type": "Feature Layer",
"geometryType": "esriGeometryPolygon",
"supportsDynamicLegends": true
},
{
"id": 1,
"name": "Micro quartier autre que Nantes",
"parentLayerId": -1,
"defaultVisibility": true,
"subLayerIds": null,
"minScale": 10001,
"maxScale": 4000,
"type": "Feature Layer",
"geometryType": "esriGeometryPoint",
"supportsDynamicLegends": true
},
{
"id": 2,
"name": "Communauté urbaine",
"parentLayerId": -1,
"defaultVisibility": true,
"subLayerIds": null,
"minScale": 0,
"maxScale": 0,
"type": "Feature Layer",
"geometryType": "esriGeometryPolygon",
"supportsDynamicLegends": true
},
{
"id": 4,
"name": "Commune",
"parentLayerId": -1,
"defaultVisibility": true,
"subLayerIds": null,
"minScale": 288895,
"maxScale": 72223,
"type": "Feature Layer",
"geometryType": "esriGeometryPolygon",
"supportsDynamicLegends": true
},
{
"id": 5,
"name": "Micro quartier Nantes",
"parentLayerId": -1,
"defaultVisibility": true,
"subLayerIds": null,
"minScale": 10001,
"maxScale": 4000,
"type": "Feature Layer",
"geometryType": "esriGeometryPolygon",
"supportsDynamicLegends": true
},
{
"id": 6,
"name": "Quartiers autre que Nantes",
"parentLayerId": -1,
"defaultVisibility": true,
"subLayerIds": null,
"minScale": 0,
"maxScale": 0,
"type": "Feature Layer",
"geometryType": "esriGeometryPolygon",
"supportsDynamicLegends": true
},
{
"id": 7,
"name": "Quartiers Nantes",
"parentLayerId": -1,
"defaultVisibility": true,
"subLayerIds": null,
"minScale": 72224,
"maxScale": 10002,
"type": "Feature Layer",
"geometryType": "esriGeometryPolygon",
"supportsDynamicLegends": true
},
{
"id": 10,
"name": "Voies",
"parentLayerId": -1,
"defaultVisibility": true,
"subLayerIds": [
8,
9,
11
],
"minScale": 0,
"maxScale": 0,
"type": "Group Layer",
"supportsDynamicLegends": false
},
{
"id": 8,
"name": "Tronçon voie",
"parentLayerId": 10,
"defaultVisibility": true,
"subLayerIds": null,
"minScale": 5000,
"maxScale": 0,
"type": "Feature Layer",
"geometryType": "esriGeometryPolyline",
"supportsDynamicLegends": true
},
{
"id": 9,
"name": "VOIE_CHAUSSEE_L Route détaillée",
"parentLayerId": 10,
"defaultVisibility": true,
"subLayerIds": null,
"minScale": 18055,
"maxScale": 0,
"type": "Feature Layer",
"geometryType": "esriGeometryPolyline",
"supportsDynamicLegends": true
},
{
"id": 11,
"name": "VOIE_TRONCON_L Route détaillée",
"parentLayerId": 10,
"defaultVisibility": true,
"subLayerIds": null,
"minScale": 250000,
"maxScale": 5001,
"type": "Feature Layer",
"geometryType": "esriGeometryPolyline",
"supportsDynamicLegends": true
},
{
"id": 12,
"name": "Inventaires des rivières \u2013 2014 (étiquettes des noms de rivières)",
"parentLayerId": -1,
"defaultVisibility": true,
"subLayerIds": null,
"minScale": 144447,
"maxScale": 0,
"type": "Feature Layer",
"geometryType": "esriGeometryPolyline",
"supportsDynamicLegends": true
},
{
"id": 13,
"name": "Rivière et fleuve",
"parentLayerId": -1,
"defaultVisibility": true,
"subLayerIds": null,
"minScale": 128000,
"maxScale": 0,
"type": "Feature Layer",
"geometryType": "esriGeometryPolyline",
"supportsDynamicLegends": true
},
{
"id": 14,
"name": "Etang, bassin",
"parentLayerId": -1,
"defaultVisibility": true,
"subLayerIds": null,
"minScale": 18057,
"maxScale": 0,
"type": "Feature Layer",
"geometryType": "esriGeometryPolygon",
"supportsDynamicLegends": true
},
{
"id": 15,
"name": "OCS_2_16_S Occupation du sol métropolitain",
"parentLayerId": -1,
"defaultVisibility": true,
"subLayerIds": null,
"minScale": 144449,
"maxScale": 0,
"type": "Feature Layer",
"geometryType": "esriGeometryPolygon",
"supportsDynamicLegends": true
},
{
"id": 16,
"name": "ESPVERT_ZONE_S Espace végétalisé et sportif métropolitain",
"parentLayerId": -1,
"defaultVisibility": true,
"subLayerIds": null,
"minScale": 100000,
"maxScale": 0,
"type": "Feature Layer",
"geometryType": "esriGeometryPolygon",
"supportsDynamicLegends": true
},
{
"id": 17,
"name": "Batiments des EQUIPUB",
"parentLayerId": -1,
"defaultVisibility": true,
"subLayerIds": null,
"minScale": 20000,
"maxScale": 0,
"type": "Feature Layer",
"geometryType": "esriGeometryPolygon",
"supportsDynamicLegends": true
},
{
"id": 19,
"name": "Remplacement de la BDcarto pour l'occupation du sol départemental",
"parentLayerId": -1,
"defaultVisibility": true,
"subLayerIds": [
25
],
"minScale": 0,
"maxScale": 0,
"type": "Group Layer",
"supportsDynamicLegends": false
},
{
"id": 25,
"name": "Mode d\u2019occupation du sol 2016 niveau 1 (BDMOS CG44)",
"parentLayerId": 19,
"defaultVisibility": true,
"subLayerIds": null,
"minScale": 0,
"maxScale": 0,
"type": "Feature Layer",
"geometryType": "esriGeometryPolygon",
"supportsDynamicLegends": true
}
],
"tables": [],
"spatialReference": {
"wkid": 102100,
"latestWkid": 3857,
"xyTolerance": 0.001,
"zTolerance": 0.001,
"mTolerance": 0.001,
"falseX": -20037700,
"falseY": -30241100,
"xyUnits": 10000,
"falseZ": -100000,
"zUnits": 10000,
"falseM": -100000,
"mUnits": 10000
},
"singleFusedMapCache": true,
"tileInfo": {
"rows": 256,
"cols": 256,
"dpi": 96,
"format": "PNG",
"compressionQuality": 0,
"origin": {
"x": -2.0037508342787E7,
"y": 2.0037508342787E7
},
"spatialReference": {
"wkid": 102100,
"latestWkid": 3857,
"xyTolerance": 0.001,
"zTolerance": 0.001,
"mTolerance": 0.001,
"falseX": -20037700,
"falseY": -30241100,
"xyUnits": 1.4892314192838538E8,
"falseZ": -100000,
"zUnits": 10000,
"falseM": -100000,
"mUnits": 10000
},
"lods": [
{
"level": 0,
"resolution": 156543.033928,
"scale": 5.91657527591555E8
},
{
"level": 1,
"resolution": 78271.5169639999,
"scale": 2.95828763795777E8
},
{
"level": 2,
"resolution": 39135.7584820001,
"scale": 1.47914381897889E8
},
{
"level": 3,
"resolution": 19567.8792409999,
"scale": 7.3957190948944E7
},
{
"level": 4,
"resolution": 9783.93962049996,
"scale": 3.6978595474472E7
},
{
"level": 5,
"resolution": 4891.96981024998,
"scale": 1.8489297737236E7
},
{
"level": 6,
"resolution": 2445.98490512499,
"scale": 9244648.868618
},
{
"level": 7,
"resolution": 1222.99245256249,
"scale": 4622324.434309
},
{
"level": 8,
"resolution": 611.49622628138,
"scale": 2311162.217155
},
{
"level": 9,
"resolution": 305.748113140558,
"scale": 1155581.108577
},
{
"level": 10,
"resolution": 152.874056570411,
"scale": 577790.554289
},
{
"level": 11,
"resolution": 76.4370282850732,
"scale": 288895.277144
},
{
"level": 12,
"resolution": 38.2185141425366,
"scale": 144447.638572
},
{
"level": 13,
"resolution": 19.1092570712683,
"scale": 72223.819286
},
{
"level": 14,
"resolution": 9.55462853563415,
"scale": 36111.909643
},
{
"level": 15,
"resolution": 4.77731426794937,
"scale": 18055.954822
},
{
"level": 16,
"resolution": 2.38865713397468,
"scale": 9027.977411
},
{
"level": 17,
"resolution": 1.19432856685505,
"scale": 4513.988705
},
{
"level": 18,
"resolution": 0.597164283559817,
"scale": 2256.994353
},
{
"level": 19,
"resolution": 0.298582141647617,
"scale": 1128.497176
},
{
"level": 20,
"resolution": 0.14929107082380833,
"scale": 564.248588
},
{
"level": 21,
"resolution": 0.07464553541190416,
"scale": 282.124294
},
{
"level": 22,
"resolution": 0.03732276770595208,
"scale": 141.062147
},
{
"level": 23,
"resolution": 0.01866138385297604,
"scale": 70.5310735
}
]
},
"storageInfo": {
"storageFormat": "esriMapCacheStorageModeCompactV2",
"packetSize": 128
},
"initialExtent": {
"xmin": -218864.56279679347,
"ymin": 5949122.129658091,
"xmax": -146267.50087521898,
"ymax": 6014529.645609909,
"spatialReference": {
"cs": "pcs",
"wkid": 102100
}
},
"fullExtent": {
"xmin": -296873.8591931866,
"ymin": 5911931.079826876,
"xmax": -98614.37380082901,
"ymax": 6082728.790385167,
"spatialReference": {
"cs": "pcs",
"wkid": 102100
}
},
"datesInUnknownTimezone": false,
"minScale": 577790.554289,
"maxScale": 282.124294,
"units": "esriMeters",
"supportedImageFormatTypes": "PNG32,PNG24,PNG,JPG,DIB,TIFF,EMF,PS,PDF,GIF,SVG,SVGZ,BMP",
"documentInfo": {
"Title": "Fond de plan",
"Author": "",
"Comments": " Fond de plan <\/SPAN>couleur <\/SPAN>de Nantes Métropol<\/SPAN>e<\/SPAN> pour Nantes.fr<\/SPAN><\/P><\/DIV><\/DIV><\/DIV>",
"Subject": "Fond de plan couleur de Nantes Métropole pour Nantes.fr",
"Category": "",
"AntialiasingMode": "None",
"TextAntialiasingMode": "None",
"Version": "2.6.0",
"Keywords": "FDP,FDC,fond de plan,fond de carte,tuile vectorielle,nantesfr,nantes.fr,bridge,gris,ultradoux,bâti,Nantes Métropole,NM"
},
"supportsQueryDomains": true,
"capabilities": "Map,Query,Data",
"supportedQueryFormats": "JSON, geoJSON, PBF",
"exportTilesAllowed": true,
"maxExportTilesCount": 100000,
"referenceScale": 0.0,
"datumTransformations": [
{
"geoTransforms": [
{
"wkid": 1764,
"latestWkid": 1763,
"transformForward": true,
"name": "NTF_Paris_To_NTF"
},
{
"wkid": 108473,
"latestWkid": 15960,
"transformForward": false,
"name": "WGS_1984_To_NTF_NTv2"
}
]
},
{
"geoTransforms": [
{
"wkid": 108473,
"latestWkid": 15960,
"transformForward": true,
"name": "WGS_1984_To_NTF_NTv2"
},
{
"wkid": 1764,
"latestWkid": 1763,
"transformForward": false,
"name": "NTF_Paris_To_NTF"
}
]
},
{
"geoTransforms": [
{
"wkid": 1764,
"latestWkid": 1763,
"transformForward": true,
"name": "NTF_Paris_To_NTF"
},
{
"wkid": 108470,
"latestWkid": 15958,
"transformForward": false,
"name": "RGF_1993_To_NTF_NTv2"
}
]
},
{
"geoTransforms": [
{
"wkid": 108470,
"latestWkid": 15958,
"transformForward": true,
"name": "RGF_1993_To_NTF_NTv2"
},
{
"wkid": 1764,
"latestWkid": 1763,
"transformForward": false,
"name": "NTF_Paris_To_NTF"
}
]
},
{
"geoTransforms": [
{
"wkid": 1671,
"latestWkid": 1671,
"transformForward": true,
"name": "RGF_1993_To_WGS_1984_1"
}
]
},
{
"geoTransforms": [
{
"wkid": 1671,
"latestWkid": 1671,
"transformForward": false,
"name": "RGF_1993_To_WGS_1984_1"
}
]
}
],
"supportsDatumTransformation": true,
"archivingInfo": {"supportsHistoricMoment": false},
"supportsClipping": true,
"supportsSpatialFilter": true,
"supportsTimeRelation": true,
"supportsQueryDataElements": true,
"maxRecordCount": 2000,
"maxImageHeight": 4096,
"maxImageWidth": 4096,
"supportedExtensions": "WFSServer, WMSServer",
"resampling": false,
"serviceItemId": "d01e42c284464b1a876460a1307c283f"
}