View In:
ArcGIS JavaScript
ArcGIS Online Map Viewer
ArcGIS Earth
ArcMap
ArcGIS Pro
View Footprint In:
ArcGIS Online Map Viewer
Service Description: <DIV STYLE="text-align:Left;font-size:12pt"><P><SPAN>Orthophotographie 2018 hiver en web mercator, avec les échelles webmercator. Prise de vue printemps 2018.</SPAN></P></DIV>
Map Name: Ortho_2018_WM
Legend
All Layers and Tables
Layers:
Description: <DIV STYLE="text-align:Left;font-size:12pt"><P><SPAN>Orthophotographie 2018 hiver en web mercator, avec les échelles webmercator. Prise de vue printemps 2018.</SPAN></P></DIV>
Service Item Id: a76568402ca542188148fd2ce578b7e7
Copyright Text:
Spatial Reference:
102100
(3857)
LatestVCSWkid(0)
Single Fused Map Cache: true
Tile Info:
- Height: 256
- Width: 256
- DPI: 96
-
Levels of Detail: 24
-
Level ID: 1
[ Start Tile, End Tile ]
- Resolution: 78271.5169639999
- Scale: 2.95828763795777E8
-
Level ID: 2
[ Start Tile, End Tile ]
- Resolution: 39135.7584820001
- Scale: 1.47914381897889E8
-
Level ID: 3
[ Start Tile, End Tile ]
- Resolution: 19567.8792409999
- Scale: 7.3957190948944E7
-
Level ID: 4
[ Start Tile, End Tile ]
- Resolution: 9783.93962049996
- Scale: 3.6978595474472E7
-
Level ID: 5
[ Start Tile, End Tile ]
- Resolution: 4891.96981024998
- Scale: 1.8489297737236E7
- Format: Mixed
- Compression Quality: 75.0
- Origin: X: -2.0037508342787E7
Y: 2.0037508342787E7
- Spatial Reference: 102100
(3857)
LatestVCSWkid(0)
Storage Info:
- Storage Format: esriMapCacheStorageModeCompactV2
- Packet Size: 128
Initial Extent:
XMin: -172400.53859600227
YMin: 5977486.0622092355
XMax: -170972.97429881635
YMax: 5978712.088017408
Spatial Reference: 102100
(0)
LatestVCSWkid(0)
Full Extent:
XMin: -217889.48240544682
YMin: 5954991.792595938
XMax: -144848.5659330463
YMax: 6003330.489240241
Spatial Reference: 102100
(0)
LatestVCSWkid(0)
Units: esriMeters
Supported Image Format Types: PNG32,PNG24,PNG,JPG,DIB,TIFF,EMF,PS,PDF,GIF,SVG,SVGZ,BMP
Document Info:
Title: Ortho_2018_WM
Author:
Comments: <DIV STYLE="text-align:Left;font-size:12pt"><P><SPAN>Orthophotographie 2018 hiver en web mercator, avec les échelles webmercator. Prise de vue printemps 2018.</SPAN></P></DIV>
Subject: Orthophotographie 2018 hiver en web mercator, avec les échelles webmercator. Prise de vue printemps 2018.
Category:
Keywords: ortho,2018,webmercator,orthophotographie,orthophoto,photographie aérienne,raster,hiver
AntialiasingMode: None
TextAntialiasingMode: Force
Supports Dynamic Layers: false
Resampling: false
MaxRecordCount: 2000
MaxImageHeight: 4096
MaxImageWidth: 4096
Supported Query Formats: JSON, geoJSON, PBF
Supports Query Data Elements: true
Min Scale: 577790.554289
Max Scale: 282.124294
Min LOD: 10
Max LOD: 20
Supports Datum Transformation: true
Child Resources:
Info
Supported Operations:
Export Map
QueryLegends
Return Updates