View In:
ArcGIS JavaScript
ArcGIS Online Map Viewer
ArcGIS Earth
ArcMap
ArcGIS Pro
View Footprint In:
ArcGIS Online Map Viewer
Service Description: <div style='text-align:Left; font-size:12pt;'><p><span>Orthophotographie 2014 express en web mercator, avec les échelles webmercator <br /></span></p></div>
Map Name: Ortho_2014_Express_WM
Legend
All Layers and Tables
Layers:
Description: <DIV STYLE="text-align:Left;font-size:12pt"><P><SPAN>Orthophotographie 2014 express en web mercator, avec les échelles webmercator + des échelles rondes</SPAN></P></DIV>
Service Item Id: 6584ecad3811470a952b803b97e3bf7c
Copyright Text: NM
Spatial Reference:
102100
(3857)
LatestVCSWkid(0)
Single Fused Map Cache: true
Tile Info:
- Height: 256
- Width: 256
- DPI: 96
-
Levels of Detail: 24
-
Level ID: 1
[ Start Tile, End Tile ]
- Resolution: 78271.5169639999
- Scale: 2.95828763795777E8
-
Level ID: 2
[ Start Tile, End Tile ]
- Resolution: 39135.7584820001
- Scale: 1.47914381897889E8
-
Level ID: 3
[ Start Tile, End Tile ]
- Resolution: 19567.8792409999
- Scale: 7.3957190948944E7
-
Level ID: 4
[ Start Tile, End Tile ]
- Resolution: 9783.93962049996
- Scale: 3.6978595474472E7
-
Level ID: 5
[ Start Tile, End Tile ]
- Resolution: 4891.96981024998
- Scale: 1.8489297737236E7
- Format: JPEG
- Compression Quality: 75.0
- Origin: X: -2.0037508342787E7
Y: 2.0037508342787E7
- Spatial Reference: 102100
(3857)
LatestVCSWkid(0)
Storage Info:
- Storage Format: esriMapCacheStorageModeCompactV2
- Packet Size: 128
Initial Extent:
XMin: -173083.0808844527
YMin: 5973937.0284613
XMax: -172645.7104003591
YMax: 5974312.65252411
Spatial Reference: 102100
(0)
LatestVCSWkid(0)
Full Extent:
XMin: -216937.40701857003
YMin: 5955524.603469358
XMax: -147141.44557710533
YMax: 6003310.191781361
Spatial Reference: 102100
(0)
LatestVCSWkid(0)
Units: esriMeters
Supported Image Format Types: PNG32,PNG24,PNG,JPG,DIB,TIFF,EMF,PS,PDF,GIF,SVG,SVGZ,BMP
Document Info:
Title: Ortho_2014_Express_WM
Author:
Comments: <DIV STYLE="text-align:Left;font-size:12pt"><P><SPAN>Orthophotographie 2014 express en web mercator, avec les échelles webmercator + des échelles rondes</SPAN></P></DIV>
Subject: Orthophotographie 2014 express en web mercator, avec les échelles webmercator + des échelles rondes
Category:
Keywords: ortho,2014,webmercator,orthophotographie,orthophoto,photographie aérienne,raster,express
AntialiasingMode: None
TextAntialiasingMode: Force
Supports Dynamic Layers: false
Resampling: false
MaxRecordCount: 2000
MaxImageHeight: 4096
MaxImageWidth: 4096
Supported Query Formats: JSON, geoJSON, PBF
Supports Query Data Elements: true
Min Scale: 577790.554289
Max Scale: 282.124294
Supports Datum Transformation: true
Child Resources:
Info
Supported Operations:
Export Map
QueryLegends
Return Updates