{ "currentVersion": 10.91, "cimVersion": "2.9.0", "serviceDescription": "
Fond de plan de Nantes Métropol<\/SPAN>e<\/SPAN><\/P><\/DIV><\/DIV><\/DIV>",
"mapName": "FDC_gris_WMS_CC47",
"description": " Fond de plan de Nantes Métropol<\/SPAN>e<\/SPAN><\/P><\/DIV><\/DIV><\/DIV>",
"copyrightText": "TB NM Dgéo",
"supportsDynamicLayers": false,
"layers": [
{
"id": 71,
"name": "Découpage",
"parentLayerId": -1,
"defaultVisibility": true,
"subLayerIds": [
66,
67,
68,
69,
70
],
"minScale": 0,
"maxScale": 0,
"type": "Group Layer",
"supportsDynamicLegends": false
},
{
"id": 66,
"name": "Micro quartier autre que Nantes",
"parentLayerId": 71,
"defaultVisibility": true,
"subLayerIds": null,
"minScale": 10001,
"maxScale": 4000,
"type": "Feature Layer",
"geometryType": "esriGeometryPoint",
"supportsDynamicLegends": true
},
{
"id": 67,
"name": "Commune",
"parentLayerId": 71,
"defaultVisibility": true,
"subLayerIds": null,
"minScale": 1155581,
"maxScale": 5000,
"type": "Feature Layer",
"geometryType": "esriGeometryPolygon",
"supportsDynamicLegends": true
},
{
"id": 68,
"name": "Micro quartier Nantes",
"parentLayerId": 71,
"defaultVisibility": true,
"subLayerIds": null,
"minScale": 10001,
"maxScale": 4000,
"type": "Feature Layer",
"geometryType": "esriGeometryPolygon",
"supportsDynamicLegends": true
},
{
"id": 69,
"name": "Quartiers autre que Nantes",
"parentLayerId": 71,
"defaultVisibility": true,
"subLayerIds": null,
"minScale": 36112,
"maxScale": 10002,
"type": "Feature Layer",
"geometryType": "esriGeometryPolygon",
"supportsDynamicLegends": true
},
{
"id": 70,
"name": "Quartiers Nantes",
"parentLayerId": 71,
"defaultVisibility": true,
"subLayerIds": null,
"minScale": 72224,
"maxScale": 10002,
"type": "Feature Layer",
"geometryType": "esriGeometryPolygon",
"supportsDynamicLegends": true
},
{
"id": 72,
"name": "Voies",
"parentLayerId": -1,
"defaultVisibility": true,
"subLayerIds": [
73,
74,
75,
76
],
"minScale": 0,
"maxScale": 0,
"type": "Group Layer",
"supportsDynamicLegends": false
},
{
"id": 73,
"name": "BD Topo Périphérique et routes principales 10 000-577 791",
"parentLayerId": 72,
"defaultVisibility": true,
"subLayerIds": null,
"minScale": 577790.554289,
"maxScale": 10000,
"type": "Feature Layer",
"geometryType": "esriGeometryPolyline",
"supportsDynamicLegends": true
},
{
"id": 74,
"name": "VOIE_CHAUSSEE_L Route détaillée 0-18055",
"parentLayerId": 72,
"defaultVisibility": true,
"subLayerIds": null,
"minScale": 18055,
"maxScale": 0,
"type": "Feature Layer",
"geometryType": "esriGeometryPolyline",
"supportsDynamicLegends": true
},
{
"id": 75,
"name": "VOIE_TRONCON_L Route détaillée 18056-50000",
"parentLayerId": 72,
"defaultVisibility": true,
"subLayerIds": null,
"minScale": 50000,
"maxScale": 18056,
"type": "Feature Layer",
"geometryType": "esriGeometryPolyline",
"supportsDynamicLegends": true
},
{
"id": 76,
"name": "VOIE_TRONCON_L Route détaillée 50001-100 000",
"parentLayerId": 72,
"defaultVisibility": true,
"subLayerIds": null,
"minScale": 100000,
"maxScale": 50001,
"type": "Feature Layer",
"geometryType": "esriGeometryPolyline",
"supportsDynamicLegends": true
},
{
"id": 26,
"name": "OCS",
"parentLayerId": -1,
"defaultVisibility": true,
"subLayerIds": [
27,
28,
29,
30,
16,
31,
32,
33
],
"minScale": 0,
"maxScale": 0,
"type": "Group Layer",
"supportsDynamicLegends": false
},
{
"id": 27,
"name": "Inventaires des rivières \u2013 2014 (étiquettes des noms de rivières)",
"parentLayerId": 26,
"defaultVisibility": true,
"subLayerIds": null,
"minScale": 0,
"maxScale": 0,
"type": "Feature Layer",
"geometryType": "esriGeometryPolyline",
"supportsDynamicLegends": true
},
{
"id": 28,
"name": "Rivière et fleuve",
"parentLayerId": 26,
"defaultVisibility": true,
"subLayerIds": null,
"minScale": 128000,
"maxScale": 0,
"type": "Feature Layer",
"geometryType": "esriGeometryPolyline",
"supportsDynamicLegends": true
},
{
"id": 29,
"name": "Etang, bassin",
"parentLayerId": 26,
"defaultVisibility": true,
"subLayerIds": null,
"minScale": 18057,
"maxScale": 0,
"type": "Feature Layer",
"geometryType": "esriGeometryPolygon",
"supportsDynamicLegends": true
},
{
"id": 30,
"name": "ocs_espvert_s Espace végétalisé et sportif métropolitain",
"parentLayerId": 26,
"defaultVisibility": true,
"subLayerIds": null,
"minScale": 10000,
"maxScale": 0,
"type": "Feature Layer",
"geometryType": "esriGeometryPolygon",
"supportsDynamicLegends": true
},
{
"id": 16,
"name": "cadastre.bati_s Emprise de bâti",
"parentLayerId": 26,
"defaultVisibility": true,
"subLayerIds": null,
"minScale": 20000,
"maxScale": 0,
"type": "Feature Layer",
"geometryType": "esriGeometryPolygon",
"supportsDynamicLegends": true
},
{
"id": 31,
"name": "OCS_2_22_S Occupation du sol métropolitain",
"parentLayerId": 26,
"defaultVisibility": true,
"subLayerIds": null,
"minScale": 144449,
"maxScale": 0,
"type": "Feature Layer",
"geometryType": "esriGeometryPolygon",
"supportsDynamicLegends": true
},
{
"id": 32,
"name": "OCS_3_22_S Occupation du sol métropolitain",
"parentLayerId": 26,
"defaultVisibility": true,
"subLayerIds": null,
"minScale": 144449,
"maxScale": 0,
"type": "Feature Layer",
"geometryType": "esriGeometryPolygon",
"supportsDynamicLegends": true
},
{
"id": 33,
"name": "Mode d\u2019occupation du sol 2016 niveau 1 (BDMOS CG44)",
"parentLayerId": 26,
"defaultVisibility": true,
"subLayerIds": null,
"minScale": 0,
"maxScale": 0,
"type": "Feature Layer",
"geometryType": "esriGeometryPolygon",
"supportsDynamicLegends": true
}
],
"tables": [],
"spatialReference": {
"wkid": 3947,
"latestWkid": 3947,
"xyTolerance": 0.001,
"zTolerance": 0.001,
"mTolerance": 0.001,
"falseX": -34579800,
"falseY": -24122100,
"xyUnits": 10000,
"falseZ": -100000,
"zUnits": 10000,
"falseM": -100000,
"mUnits": 10000
},
"singleFusedMapCache": true,
"tileInfo": {
"rows": 512,
"cols": 512,
"dpi": 96,
"format": "JPEG",
"compressionQuality": 75,
"origin": {
"x": -3.4579619661049664E7,
"y": 4.235224349316059E7
},
"spatialReference": {
"wkid": 3947,
"latestWkid": 3947,
"xyTolerance": 0.001,
"zTolerance": 0.001,
"mTolerance": 0.001,
"falseX": -34579800,
"falseY": -24122100,
"xyUnits": 10000,
"falseZ": -100000,
"zUnits": 10000,
"falseM": -100000,
"mUnits": 10000
},
"lods": [
{
"level": 0,
"resolution": 138718.14410295297,
"scale": 524288000
},
{
"level": 1,
"resolution": 69359.07205147648,
"scale": 262144000
},
{
"level": 2,
"resolution": 34679.53602573824,
"scale": 131072000
},
{
"level": 3,
"resolution": 17339.76801286912,
"scale": 65536000
},
{
"level": 4,
"resolution": 8669.88400643456,
"scale": 32768000
},
{
"level": 5,
"resolution": 4334.94200321728,
"scale": 16384000
},
{
"level": 6,
"resolution": 2167.47100160864,
"scale": 8192000
},
{
"level": 7,
"resolution": 1083.73550080432,
"scale": 4096000
},
{
"level": 8,
"resolution": 541.86775040216,
"scale": 2048000
},
{
"level": 9,
"resolution": 270.93387520108,
"scale": 1024000
},
{
"level": 10,
"resolution": 135.46693760054188,
"scale": 512000
},
{
"level": 11,
"resolution": 67.73346880027094,
"scale": 256000
},
{
"level": 12,
"resolution": 33.86673440013547,
"scale": 128000
},
{
"level": 13,
"resolution": 16.933367200067735,
"scale": 64000
},
{
"level": 14,
"resolution": 8.466683600033868,
"scale": 32000
},
{
"level": 15,
"resolution": 4.233341800016934,
"scale": 16000
},
{
"level": 16,
"resolution": 2.116670900008467,
"scale": 8000
},
{
"level": 17,
"resolution": 1.0583354500042335,
"scale": 4000
},
{
"level": 18,
"resolution": 0.5291677250021167,
"scale": 2000
},
{
"level": 19,
"resolution": 0.26458386250105836,
"scale": 1000
},
{
"level": 20,
"resolution": 0.13229193125052918,
"scale": 500
},
{
"level": 21,
"resolution": 0.06614596562526459,
"scale": 250
},
{
"level": 22,
"resolution": 0.033072982812632296,
"scale": 125
}
]
},
"storageInfo": {
"storageFormat": "esriMapCacheStorageModeCompactV2",
"packetSize": 128
},
"initialExtent": {
"xmin": 1327261.8627154902,
"ymin": 6214256.831436488,
"xmax": 1377898.9125815472,
"ymax": 6251939.160286543,
"spatialReference": {
"wkid": 3947,
"latestWkid": 3947,
"xyTolerance": 0.001,
"zTolerance": 0.001,
"mTolerance": 0.001,
"falseX": -34579800,
"falseY": -24122100,
"xyUnits": 10000,
"falseZ": -100000,
"zUnits": 10000,
"falseM": -100000,
"mUnits": 10000
}
},
"fullExtent": {
"xmin": 1235514.7858000025,
"ymin": 6186597.256499998,
"xmax": 1415177.6212000027,
"ymax": 6312161.1554999985,
"spatialReference": {
"wkid": 3947,
"latestWkid": 3947,
"xyTolerance": 0.001,
"zTolerance": 0.001,
"mTolerance": 0.001,
"falseX": -34579800,
"falseY": -24122100,
"xyUnits": 10000,
"falseZ": -100000,
"zUnits": 10000,
"falseM": -100000,
"mUnits": 10000
}
},
"datesInUnknownTimezone": false,
"minScale": 1024000,
"maxScale": 500,
"minLOD": 9,
"maxLOD": 20,
"units": "esriMeters",
"supportedImageFormatTypes": "PNG32,PNG24,PNG,JPG,DIB,TIFF,EMF,PS,PDF,GIF,SVG,SVGZ,BMP",
"documentInfo": {
"Title": "Fond de plan",
"Author": "",
"Comments": " Fond de plan de Nantes Métropol<\/SPAN>e<\/SPAN><\/P><\/DIV><\/DIV><\/DIV>",
"Subject": "Fond de plan de Nantes Métropole",
"Category": "",
"AntialiasingMode": "Fast",
"TextAntialiasingMode": "Force",
"Version": "2.6.0",
"Keywords": "FDP,fond de plan,fond de carte,nantesfr,nantes.fr,bridge"
},
"supportsQueryDomains": true,
"capabilities": "Query,Map,Data",
"supportedQueryFormats": "JSON, geoJSON, PBF",
"exportTilesAllowed": true,
"maxExportTilesCount": 100000,
"referenceScale": 0.0,
"datumTransformations": [
{
"geoTransforms": [
{
"wkid": 1671,
"latestWkid": 1671,
"transformForward": false,
"name": "RGF_1993_To_WGS_1984_1"
}
]
},
{
"geoTransforms": [
{
"wkid": 1671,
"latestWkid": 1671,
"transformForward": true,
"name": "RGF_1993_To_WGS_1984_1"
}
]
}
],
"supportsDatumTransformation": true,
"archivingInfo": {"supportsHistoricMoment": false},
"supportsClipping": true,
"supportsSpatialFilter": true,
"supportsTimeRelation": true,
"supportsQueryDataElements": true,
"maxRecordCount": 2000,
"maxImageHeight": 4096,
"maxImageWidth": 4096,
"supportedExtensions": "WMSServer",
"serviceItemId": "f3b28cb3cc18460ab3c380e2a84679f6"
}